BEGIN:VCALENDAR
VERSION:2.0
PRODID:-//Crossover Mission - ECPv6.15.20//NONSGML v1.0//EN
CALSCALE:GREGORIAN
METHOD:PUBLISH
X-ORIGINAL-URL:https://crossovermission.com
X-WR-CALDESC:Events for Crossover Mission
REFRESH-INTERVAL;VALUE=DURATION:PT1H
X-Robots-Tag:noindex
X-PUBLISHED-TTL:PT1H
BEGIN:VTIMEZONE
TZID:America/New_York
BEGIN:DAYLIGHT
TZOFFSETFROM:-0500
TZOFFSETTO:-0400
TZNAME:EDT
DTSTART:20250309T070000
END:DAYLIGHT
BEGIN:STANDARD
TZOFFSETFROM:-0400
TZOFFSETTO:-0500
TZNAME:EST
DTSTART:20251102T060000
END:STANDARD
BEGIN:DAYLIGHT
TZOFFSETFROM:-0500
TZOFFSETTO:-0400
TZNAME:EDT
DTSTART:20260308T070000
END:DAYLIGHT
BEGIN:STANDARD
TZOFFSETFROM:-0400
TZOFFSETTO:-0500
TZNAME:EST
DTSTART:20261101T060000
END:STANDARD
BEGIN:DAYLIGHT
TZOFFSETFROM:-0500
TZOFFSETTO:-0400
TZNAME:EDT
DTSTART:20270314T070000
END:DAYLIGHT
BEGIN:STANDARD
TZOFFSETFROM:-0400
TZOFFSETTO:-0500
TZNAME:EST
DTSTART:20271107T060000
END:STANDARD
END:VTIMEZONE
BEGIN:VEVENT
DTSTART;TZID=America/New_York:20260512T170000
DTEND;TZID=America/New_York:20260512T190000
DTSTAMP:20260420T024958
CREATED:20250930T145307Z
LAST-MODIFIED:20250930T145307Z
UID:10000101-1778605200-1778612400@crossovermission.com
SUMMARY:Crossover Mission End of Year Banquet
DESCRIPTION:Crossover Mission student athletes from all three seasons will be invited to attend the End of Year banquet.  You and your families will be invited to attend this event and celebrate the accomplishments of the 2025-26 year.  More details to follow.
URL:https://crossovermission.com/event/crossover-mission-end-of-year-banquet-2/
ATTACH;FMTTYPE=image/jpeg:https://crossovermission.com/wp-content/uploads/2025/09/Gage-Hurst-Korian-Evans-Caiden-Culver-Kaiden-Evans-and-Avonti-Jennings--scaled.jpg
END:VEVENT
BEGIN:VEVENT
DTSTART;TZID=America/New_York:20260525T080000
DTEND;TZID=America/New_York:20260525T170000
DTSTAMP:20260420T024958
CREATED:20250930T145518Z
LAST-MODIFIED:20250930T145518Z
UID:10000103-1779696000-1779728400@crossovermission.com
SUMMARY:Crossover Mission Closed
DESCRIPTION:In observance of Memorial Day\, Crossover Mission will be closed Monday\, May 25\, 2026
URL:https://crossovermission.com/event/crossover-mission-closed-2/
END:VEVENT
END:VCALENDAR