BEGIN:VCALENDAR
VERSION:2.0
PRODID:-//Crossover Mission - ECPv6.15.20//NONSGML v1.0//EN
CALSCALE:GREGORIAN
METHOD:PUBLISH
X-WR-CALNAME:Crossover Mission
X-ORIGINAL-URL:https://crossovermission.com
X-WR-CALDESC:Events for Crossover Mission
REFRESH-INTERVAL;VALUE=DURATION:PT1H
X-Robots-Tag:noindex
X-PUBLISHED-TTL:PT1H
BEGIN:VTIMEZONE
TZID:America/New_York
BEGIN:DAYLIGHT
TZOFFSETFROM:-0500
TZOFFSETTO:-0400
TZNAME:EDT
DTSTART:20240310T070000
END:DAYLIGHT
BEGIN:STANDARD
TZOFFSETFROM:-0400
TZOFFSETTO:-0500
TZNAME:EST
DTSTART:20241103T060000
END:STANDARD
BEGIN:DAYLIGHT
TZOFFSETFROM:-0500
TZOFFSETTO:-0400
TZNAME:EDT
DTSTART:20250309T070000
END:DAYLIGHT
BEGIN:STANDARD
TZOFFSETFROM:-0400
TZOFFSETTO:-0500
TZNAME:EST
DTSTART:20251102T060000
END:STANDARD
BEGIN:DAYLIGHT
TZOFFSETFROM:-0500
TZOFFSETTO:-0400
TZNAME:EDT
DTSTART:20260308T070000
END:DAYLIGHT
BEGIN:STANDARD
TZOFFSETFROM:-0400
TZOFFSETTO:-0500
TZNAME:EST
DTSTART:20261101T060000
END:STANDARD
END:VTIMEZONE
BEGIN:VEVENT
DTSTART;TZID=America/New_York:20251201T080000
DTEND;TZID=America/New_York:20251205T170000
DTSTAMP:20260422T050439
CREATED:20250930T123927Z
LAST-MODIFIED:20250930T123927Z
UID:10000096-1764576000-1764954000@crossovermission.com
SUMMARY:NO PROGRAM FOR STUDENTS
DESCRIPTION:
URL:https://crossovermission.com/event/no-program-for-students/
END:VEVENT
BEGIN:VEVENT
DTSTART;TZID=America/New_York:20251204T180000
DTEND;TZID=America/New_York:20251204T210000
DTSTAMP:20260422T050439
CREATED:20250527T121609Z
LAST-MODIFIED:20250527T122035Z
UID:10000093-1764871200-1764882000@crossovermission.com
SUMMARY:Crossover Mission 11th Annual Gala
DESCRIPTION:
URL:https://crossovermission.com/event/crossover-mission-11th-annual-gala/
ATTACH;FMTTYPE=image/jpeg:https://crossovermission.com/wp-content/uploads/2025/05/Save-the-Date_2025_FINAL.jpg
END:VEVENT
BEGIN:VEVENT
DTSTART;TZID=America/New_York:20251206T160000
DTEND;TZID=America/New_York:20251206T220000
DTSTAMP:20260422T050439
CREATED:20250930T130932Z
LAST-MODIFIED:20250930T130932Z
UID:10000098-1765036800-1765058400@crossovermission.com
SUMMARY:Vero Beach Christmas Parade
DESCRIPTION:Join your Crossover Mission team as we join in the festivities of the Vero Beach Christmas parade.  Participants will meet at Crossover and staff will transport you to the parade route.  Parent pick up back at Crossover at a time to be announced.  Get your jingle and dribble on to kick off the holiday season!
URL:https://crossovermission.com/event/vero-beach-christmas-parade-3/
ATTACH;FMTTYPE=image/png:https://crossovermission.com/wp-content/uploads/2025/09/Christmas-Basketball-Parade-Celebration-1.png
END:VEVENT
BEGIN:VEVENT
DTSTART;TZID=America/New_York:20251208T143000
DTEND;TZID=America/New_York:20251208T174500
DTSTAMP:20260422T050439
CREATED:20250930T124431Z
LAST-MODIFIED:20250930T124537Z
UID:10000097-1765204200-1765215900@crossovermission.com
SUMMARY:Crossover Season 2 Begins
DESCRIPTION:In-Season Training\, December 8\, 2025-February 12\, 2026 – Stay active and continue improving during the school basketball season.  Ideal for students not on school teams\, this session offers competitive play\, targeted skill work\, and academic support throughout the winter months.
URL:https://crossovermission.com/event/crossover-season-2-begins/
END:VEVENT
END:VCALENDAR