BEGIN:VCALENDAR
VERSION:2.0
PRODID:-//Crossover Mission - ECPv6.15.20//NONSGML v1.0//EN
CALSCALE:GREGORIAN
METHOD:PUBLISH
X-WR-CALNAME:Crossover Mission
X-ORIGINAL-URL:https://crossovermission.com
X-WR-CALDESC:Events for Crossover Mission
REFRESH-INTERVAL;VALUE=DURATION:PT1H
X-Robots-Tag:noindex
X-PUBLISHED-TTL:PT1H
BEGIN:VTIMEZONE
TZID:America/New_York
BEGIN:DAYLIGHT
TZOFFSETFROM:-0500
TZOFFSETTO:-0400
TZNAME:EDT
DTSTART:20240310T070000
END:DAYLIGHT
BEGIN:STANDARD
TZOFFSETFROM:-0400
TZOFFSETTO:-0500
TZNAME:EST
DTSTART:20241103T060000
END:STANDARD
BEGIN:DAYLIGHT
TZOFFSETFROM:-0500
TZOFFSETTO:-0400
TZNAME:EDT
DTSTART:20250309T070000
END:DAYLIGHT
BEGIN:STANDARD
TZOFFSETFROM:-0400
TZOFFSETTO:-0500
TZNAME:EST
DTSTART:20251102T060000
END:STANDARD
BEGIN:DAYLIGHT
TZOFFSETFROM:-0500
TZOFFSETTO:-0400
TZNAME:EDT
DTSTART:20260308T070000
END:DAYLIGHT
BEGIN:STANDARD
TZOFFSETFROM:-0400
TZOFFSETTO:-0500
TZNAME:EST
DTSTART:20261101T060000
END:STANDARD
END:VTIMEZONE
BEGIN:VEVENT
DTSTART;TZID=America/New_York:20251108T100000
DTEND;TZID=America/New_York:20251108T123000
DTSTAMP:20260422T063717
CREATED:20251022T180419Z
LAST-MODIFIED:20251022T180419Z
UID:10000104-1762596000-1762605000@crossovermission.com
SUMMARY:Coach David Hixon Showcase
DESCRIPTION:Naismith Hall of Fame Coach David Hixon will be evaluating players live! This is a unique opportunity for athletes to showcase their talent and gain college-level exposure!  11th grade and up    10:00 AM – 12:15 PM  Doors open at 9:45 AM     Parent Recruitment Q & A with Coach Hixon   REGISTRATION REQUIRED
URL:https://crossovermission.com/event/coach-david-hixon-showcase/
ATTACH;FMTTYPE=image/png:https://crossovermission.com/wp-content/uploads/2025/10/Coach-Hixon-Showcase-Flyer2.png
END:VEVENT
BEGIN:VEVENT
DTSTART;TZID=America/New_York:20251124T080000
DTEND;TZID=America/New_York:20251128T170000
DTSTAMP:20260422T063717
CREATED:20250930T123459Z
LAST-MODIFIED:20250930T123652Z
UID:10000095-1763971200-1764349200@crossovermission.com
SUMMARY:THANKSGIVING BREAK
DESCRIPTION:Thanksgiving Break – NO PROGRAM November 24-28
URL:https://crossovermission.com/event/thanksgiving-break/
END:VEVENT
END:VCALENDAR