BEGIN:VCALENDAR
VERSION:2.0
PRODID:-//Crossover Mission - ECPv6.15.20//NONSGML v1.0//EN
CALSCALE:GREGORIAN
METHOD:PUBLISH
X-WR-CALNAME:Crossover Mission
X-ORIGINAL-URL:https://crossovermission.com
X-WR-CALDESC:Events for Crossover Mission
REFRESH-INTERVAL;VALUE=DURATION:PT1H
X-Robots-Tag:noindex
X-PUBLISHED-TTL:PT1H
BEGIN:VTIMEZONE
TZID:America/New_York
BEGIN:DAYLIGHT
TZOFFSETFROM:-0500
TZOFFSETTO:-0400
TZNAME:EDT
DTSTART:20220313T070000
END:DAYLIGHT
BEGIN:STANDARD
TZOFFSETFROM:-0400
TZOFFSETTO:-0500
TZNAME:EST
DTSTART:20221106T060000
END:STANDARD
BEGIN:DAYLIGHT
TZOFFSETFROM:-0500
TZOFFSETTO:-0400
TZNAME:EDT
DTSTART:20230312T070000
END:DAYLIGHT
BEGIN:STANDARD
TZOFFSETFROM:-0400
TZOFFSETTO:-0500
TZNAME:EST
DTSTART:20231105T060000
END:STANDARD
BEGIN:DAYLIGHT
TZOFFSETFROM:-0500
TZOFFSETTO:-0400
TZNAME:EDT
DTSTART:20240310T070000
END:DAYLIGHT
BEGIN:STANDARD
TZOFFSETFROM:-0400
TZOFFSETTO:-0500
TZNAME:EST
DTSTART:20241103T060000
END:STANDARD
BEGIN:DAYLIGHT
TZOFFSETFROM:-0500
TZOFFSETTO:-0400
TZNAME:EDT
DTSTART:20250309T070000
END:DAYLIGHT
BEGIN:STANDARD
TZOFFSETFROM:-0400
TZOFFSETTO:-0500
TZNAME:EST
DTSTART:20251102T060000
END:STANDARD
END:VTIMEZONE
BEGIN:VEVENT
DTSTART;TZID=America/New_York:20240419T100000
DTEND;TZID=America/New_York:20240419T120000
DTSTAMP:20260424T101607
CREATED:20231024T001549Z
LAST-MODIFIED:20240221T204152Z
UID:10000018-1713520800-1713528000@crossovermission.com
SUMMARY:Coffee and Conversation
DESCRIPTION:COFFEE & CONVERSATION\nCome for the coffee\, stay for the conversation\, and leave inspired to make a difference in the lives of Crossover Missions student athletes. \nHeld typically on Fridays\, these two-hour sessions are designed to help you gain a deeper understanding of the heart of our mission. Whether you’re a seasoned volunteer\, someone curious about our mentorship program\, or just looking to give back to your community\, this gathering is the perfect starting point. \nCrossover Mission deeply values the role mentors play in shaping the lives of our student-athletes. Our “Coffee and Conversation” events underscore the importance of relationship building and trust\, the fundamental pillars of our mentorship programs. Mentors do more than support our students academically; they are pivotal in helping our young athletes navigate the challenges and triumphs they face on and off the court. \nAt “Coffee and Conversation\,” you’ll have the unique opportunity to dive deep into the happenings at Crossover Mission\, share your invaluable suggestions\, receive feedback\, and engage in meaningful training and introductions. It’s a space where our staff and volunteers come together to share\, learn\, and grow in a relaxed\, welcoming environment. Thanks to the generosity of our sponsor and board member\, Jeremy Odom\, owner of the local McDonald’s\, attendees can enjoy a selection of coffee and breakfast items. \nWe encourage all our volunteers to attend to help gain a deeper understanding and commitment to our cause. For questions\, please contact Volunteer Coordinator Mia Morin at mmorin@crossovermission.com or 772.257.544 \nTime:  10:00 am – 12:00 pm\nLocation: Crossover Mission Center for Excellence | 4425 US Hwy 1| Vero Beach\, FL | 32962;  \n  \nRSVP is appreciated.  \nRSVP Now \n×RSVP - Coffee & Conversation\n\n\n                \n                        \n                             \n                        \n                        Full Name(Required)\n                            \n                            \n                                                    First\n                                                    \n                                                \n                            \n                            \n                                                            Last\n                                                            \n                                                        \n                            \n                        Email(Required)\n                                \n                                    Enter Email\n                                    \n                                \n                                \n                                    Confirm Email\n                                    \n                                \n                                \n                            Attendance(Required)\n			\n					\n					Yes\n			\n			\n					\n					No\n			Number of Guests(Required)Please enter the number of guests that will be attending the event. Please enter a number from 1 to 10.CAPTCHA\n          \n            \n            \n            \n            \n            \n            \n            \n            \n            \n            \n            \n            \n            \n        \n                        Δ \n                        \n\nCloseSponsored by
URL:https://crossovermission.com/event/coffee-and-conversation-2/
LOCATION:Crossover Mission\, 4425 US Highway1\, Vero Beach\, FL\, 32967\, United States
ATTACH;FMTTYPE=image/jpeg:https://crossovermission.com/wp-content/uploads/2023/10/IMG_1878-scaled.jpg
END:VEVENT
BEGIN:VEVENT
DTSTART;VALUE=DATE:20240203
DTEND;VALUE=DATE:20240204
DTSTAMP:20260424T101607
CREATED:20231024T001132Z
LAST-MODIFIED:20231024T001132Z
UID:10000014-1706918400-1707004799@crossovermission.com
SUMMARY:Middle Showcase Game
DESCRIPTION:
URL:https://crossovermission.com/event/middle-showcase-game/
END:VEVENT
BEGIN:VEVENT
DTSTART;VALUE=DATE:20240202
DTEND;VALUE=DATE:20240203
DTSTAMP:20260424T101607
CREATED:20231024T001058Z
LAST-MODIFIED:20231024T001058Z
UID:10000013-1706832000-1706918399@crossovermission.com
SUMMARY:Middle School Showcase Practice and Registration
DESCRIPTION:
URL:https://crossovermission.com/event/middle-school-showcase-practice-and-registration/
END:VEVENT
BEGIN:VEVENT
DTSTART;VALUE=DATE:20231202
DTEND;VALUE=DATE:20231203
DTSTAMP:20260424T101607
CREATED:20231024T000938Z
LAST-MODIFIED:20231024T000938Z
UID:10000012-1701475200-1701561599@crossovermission.com
SUMMARY:Vero Beach Christmas Parade
DESCRIPTION:
URL:https://crossovermission.com/event/vero-beach-christmas-parade/
END:VEVENT
BEGIN:VEVENT
DTSTART;TZID=America/New_York:20231120T100000
DTEND;TZID=America/New_York:20231120T120000
DTSTAMP:20260424T101607
CREATED:20231113T212040Z
LAST-MODIFIED:20231113T212040Z
UID:10000032-1700474400-1700481600@crossovermission.com
SUMMARY:Annual Turkey Giveaway
DESCRIPTION:
URL:https://crossovermission.com/event/annual-turkey-giveaway-2023/
LOCATION:Crossover Mission\, 4425 US Highway1\, Vero Beach\, FL\, 32967\, United States
ATTACH;FMTTYPE=image/jpeg:https://crossovermission.com/wp-content/uploads/2023/11/Annual-Turkey-Givaway-2023.jpg
END:VEVENT
BEGIN:VEVENT
DTSTART;TZID=America/New_York:20231030T080000
DTEND;TZID=America/New_York:20231030T170000
DTSTAMP:20260424T101607
CREATED:20231024T001849Z
LAST-MODIFIED:20240517T184306Z
UID:10000021-1698652800-1698685200@crossovermission.com
SUMMARY:Travel Ball Tournament
DESCRIPTION:
URL:https://crossovermission.com/event/travel-ball-tournament/2023-10-30/
ATTACH;FMTTYPE=image/png:https://crossovermission.com/wp-content/uploads/2024/05/Kings-and-Queens-Logo-Combined.png
END:VEVENT
BEGIN:VEVENT
DTSTART;TZID=America/New_York:20231027T050000
DTEND;TZID=America/New_York:20231027T200000
DTSTAMP:20260424T101607
CREATED:20230908T004053Z
LAST-MODIFIED:20230908T004451Z
UID:10000010-1698382800-1698436800@crossovermission.com
SUMMARY:Trick-Or-Treat Trail
DESCRIPTION:Indoor Trick-Or-Treating Extravaganza\n 
URL:https://crossovermission.com/event/trick-or-treat-trail/
LOCATION:Crossover Mission\, 4425 US Highway1\, Vero Beach\, FL\, 32967\, United States
ATTACH;FMTTYPE=image/jpeg:https://crossovermission.com/wp-content/uploads/2023/09/trickor2023.jpg
END:VEVENT
END:VCALENDAR